BEGIN:VCALENDAR
VERSION:2.0
PRODID:event-auburn-hills-40314
BEGIN:VEVENT
DTSTART:20260421T173000
DTEND:20260421T173000
DTSTAMP:20260420T042040Z
SUMMARY:Tax Increment Finance Authority
UID:f423a5462bbfda74ece5d0d8ca0949f4
LOCATION:Council Conference Room, Auburn Hills, MI, 48326
DESCRIPTION:...
URL:https://www.auburnhills.org/?p=40314
END:VEVENT
END:VCALENDAR