BEGIN:VCALENDAR
VERSION:2.0
PRODID:event-auburn-hills-39838
BEGIN:VEVENT
DTSTART:20260825T170000
DTEND:20260825T170000
DTSTAMP:20260425T163452Z
SUMMARY:Public Safety Advisory Committee
UID:c4934d58203403c0470ecf9977ea531a
LOCATION:Public Safety Community Room, Auburn Hills, MI, 48326
DESCRIPTION:...
URL:https://www.auburnhills.org/?p=39838
END:VEVENT
END:VCALENDAR