BEGIN:VCALENDAR
VERSION:2.0
PRODID:event-auburn-hills-34163
BEGIN:VEVENT
DTSTART:20260612T190000
DTEND:20260612T203000
DTSTAMP:20260425T112238Z
SUMMARY:Beach Bash Concert
UID:ce45e1e34979738a1dec78f1d13e1bc4
LOCATION:Riverside Park, Auburn Hills, MI, 48326
DESCRIPTION:Kick off the summer event season in Downtown Auburn Hills with the third annual Beach Bash featuring a live...
URL:https://www.auburnhills.org/events/beach-bash-concert/
END:VEVENT
END:VCALENDAR